0.1
0
0
-0.1
585234.641154911
4733034.95900274
