0.1
0
0
-0.1
586087.235825802
4733045.47320415
