0.1
0
0
-0.1
584396.246592514
4731867.76242218
