0.1
0
0
-0.1
575894.451072283
4729454.95648532
