0.1
0
0
-0.1
582697.732774546
4731268.60487978
