0.1
0
0
-0.1
584410.436858602
4730711.09022993
