0.1
0
0
-0.1
581026.170530203
4728356.73530416
