0.1
0
0
-0.1
581893.085846143
4727210.15403296
