0.1
0
0
-0.1
578486.48095274
4726592.08143056
