0.1
0
0
-0.1
580199.955220168
4726033.30047818
