0.1
0
0
-0.1
581060.203099782
4725465.05569481
