0.1
0
0
-0.1
582767.228139576
4725485.24130631
