0.1
0
0
-0.1
586166.841566099
4726683.76613969
