0.1
0
0
-0.1
584467.171995872
4726084.39608471
