0.1
0
0
-0.1
587027.516471989
4726116.16390537
