0.1
0
0
-0.1
582781.123108902
4724328.58134319
