0.1
0
0
-0.1
551311.413362212
4708407.51605677
