0.1
0
0
-0.1
552167.024199355
4708413.77285797
