0.1
0
0
-0.1
552171.390709736
4707835.46953519
