0.1
0
0
-0.1
552184.482244493
4706100.56855376
