0.1
0
0
-0.1
548781.194560014
4703184.35519317
