0.1
0
0
-0.1
548785.246600034
4702606.08278693
