0.1
0
0
-0.1
549645.680238451
4702033.85676841
