0.1
0
0
-0.1
603039.82177395
4682376.37208961
