0.1
0
0
-0.1
603048.342189779
4681798.0812279
