0.1
0
0
-0.1
650285.336345367
4722576.92143782
