0.1
0
0
-0.1
650297.913698739
4721998.56170522
