0.1
0
0
-0.1
650323.064409065
4720841.84773349
