0.1
0
0
-0.1
648626.909682643
4720226.46506373
