0.1
0
0
-0.1
555426.217467885
4728681.38330181
