0.1
0
0
-0.1
556284.095644382
4728109.9455508
