0.1
0
0
-0.1
557137.294182281
4728117.05889074
