0.1
0
0
-0.1
556288.847282941
4727531.6049206
