0.1
0
0
-0.1
597957.68313961
4737832.12619534
