0.1
0
0
-0.1
597113.831522159
4737241.56760014
