0.1
0
0
-0.1
597122.001019312
4736663.2252957
