0.1
0
0
-0.1
598826.334911176
4736687.65873675
