0.1
0
0
-0.1
563773.947725179
4748419.18449785
