0.1
0
0
-0.1
604747.411127673
4739667.80415699
