0.1
0
0
-0.1
605608.110067334
4739102.51550101
