0.1
0
0
-0.1
601656.217013712
4775488.14073015
