0.1
0
0
-0.1
611290.060918528
4649532.62435402
