0.1
0
0
-0.1
613860.119037122
4650730.59058037
