0.1
0
0
-0.1
614751.047852703
4649009.63889317
