0.1
0
0
-0.1
616457.932373749
4650194.57010717
