0.1
0
0
-0.1
618193.280213583
4649644.85778148
