0.1
0
0
-0.1
619919.097274508
4649674.03193875
