0.1
0
0
-0.1
611308.244908666
4648376.07610918
