0.1
0
0
-0.1
610454.216136324
4647784.3484639
