0.1
0
0
-0.1
612198.773851647
4646654.91482095
